BEGIN:VCALENDAR
VERSION:2.0
PRODID:-//Living In His Word Ministries - ECPv6.15.20//NONSGML v1.0//EN
CALSCALE:GREGORIAN
METHOD:PUBLISH
X-WR-CALNAME:Living In His Word Ministries
X-ORIGINAL-URL:https://lihwministries.org
X-WR-CALDESC:Events for Living In His Word Ministries
REFRESH-INTERVAL;VALUE=DURATION:PT1H
X-Robots-Tag:noindex
X-PUBLISHED-TTL:PT1H
BEGIN:VTIMEZONE
TZID:America/Detroit
BEGIN:DAYLIGHT
TZOFFSETFROM:-0500
TZOFFSETTO:-0400
TZNAME:EDT
DTSTART:20250309T070000
END:DAYLIGHT
BEGIN:STANDARD
TZOFFSETFROM:-0400
TZOFFSETTO:-0500
TZNAME:EST
DTSTART:20251102T060000
END:STANDARD
BEGIN:DAYLIGHT
TZOFFSETFROM:-0500
TZOFFSETTO:-0400
TZNAME:EDT
DTSTART:20260308T070000
END:DAYLIGHT
BEGIN:STANDARD
TZOFFSETFROM:-0400
TZOFFSETTO:-0500
TZNAME:EST
DTSTART:20261101T060000
END:STANDARD
BEGIN:DAYLIGHT
TZOFFSETFROM:-0500
TZOFFSETTO:-0400
TZNAME:EDT
DTSTART:20270314T070000
END:DAYLIGHT
BEGIN:STANDARD
TZOFFSETFROM:-0400
TZOFFSETTO:-0500
TZNAME:EST
DTSTART:20271107T060000
END:STANDARD
END:VTIMEZONE
BEGIN:VEVENT
DTSTART;TZID=America/Detroit:20260321T100000
DTEND;TZID=America/Detroit:20260321T120000
DTSTAMP:20260422T081922
CREATED:20260202T184336Z
LAST-MODIFIED:20260202T205006Z
UID:12495-1774087200-1774094400@lihwministries.org
SUMMARY:SPRING REVIVAL - March 21 - ALTAR WORKERS SEMINAR-New Richmond Baptist Church  - Holland\, Mi - Copy
DESCRIPTION:PASTOR JOSH SPENCER\n\n\n\n\n\n\n\n\n\n\n\n\n\n\n\n\n\n\n\n\n\n\n\n\n\n\nREGULAR SERVICE TIMES:\n\n\n\n\n\n\n\n\n\n\n\n\n\n\n\n\n\n\n\n\n\n\n\n\n\n\n\n\n\nSunday School – 10:00 am\nMorning Worship  – 11:00 am\nJunior Church – 11:30\nPM Worship – 6:00\nWednesday Night Bible Study\n& Masterclub and Teen Ministries – 6:30 p.m.\n\n\nJoin us March 20-22nd at New Richmond Baptist Church\, 1909 Transport Lane\, Holland\, MI\, for the Spring Revival with Dr. Franklin J. Senters\nFRIDAY NIGHT—6:30 PM MUSICAL MINISTRY AND DEVOTIONAL CALL TO SERVE.\nSATURDAY 10:00 AM – NOON – ALTAR WORKERS’ MINISTRY SEMINAR\nSATURDAY 6:30 PM – MAKING THE CHURCH GREAT AGAIN\nSUNDAY SCHOOL 0 10:00 AM – MAKING THE CHURCH GREAT AGAIN\nSUNDAY AM 11:00 AM – MAKING THE CHURCH GREAT AGAIN\nSUNDAY 6:00 PM – MAKING THE CHURCH GREAT AGAIN\nSermons are all on:\nMAKING THE CHURCH GREAT AGAIN\nPLEASE SHARE THIS PAGE:Tweet\n				Email a link to a friend (Opens in new window)\n				Email\n			\n				Print (Opens in new window)\n				Print\n			MoreShare on Tumblr
URL:https://lihwministries.org/event/spring-revival-march-20-altar-workers-seminar-new-richmond-baptist-church-holland-mi-copy/
LOCATION:New Richmond Baptist Church – Holland\, Mi\, 1909 Transport Lane\, Holland\, 49423\, United States
CATEGORIES:SPEAKING ENGAGEMENT
ORGANIZER;CN="Pastor Josh Spencer":MAILTO:pastrojoshspencer@yahoo.com
END:VEVENT
BEGIN:VEVENT
DTSTART;TZID=America/Detroit:20260321T183000
DTEND;TZID=America/Detroit:20260321T193000
DTSTAMP:20260422T081922
CREATED:20260202T205550Z
LAST-MODIFIED:20260202T205550Z
UID:12499-1774117800-1774121400@lihwministries.org
SUMMARY:SPRING REVIVAL - March 21 - SATURDAY EVENING SERVICE-New Richmond Baptist Church  - Holland\, Mi
DESCRIPTION:PASTOR JOSH SPENCER\n\n\n\n\n\n\n\n\n\n\n\n\n\n\n\n\n\n\n\n\n\n\n\n\n\n\nREGULAR SERVICE TIMES:\n\n\n\n\n\n\n\n\n\n\n\n\n\n\n\n\n\n\n\n\n\n\n\n\n\n\n\n\n\nSunday School – 10:00 am\nMorning Worship  – 11:00 am\nJunior Church – 11:30\nPM Worship – 6:00\nWednesday Night Bible Study\n& Masterclub and Teen Ministries – 6:30 p.m.\n\n\nJoin us March 20-22nd at New Richmond Baptist Church\, 1909 Transport Lane\, Holland\, MI\, for the Spring Revival with Dr. Franklin J. Senters\nFRIDAY NIGHT—6:30 PM MUSICAL MINISTRY AND DEVOTIONAL CALL TO SERVE.SATURDAY 10:00 AM – NOON – ALTAR WORKERS’ MINISTRY SEMINAR\nSATURDAY 6:30 PM – MAKING THE CHURCH GREAT AGAIN\nSUNDAY SCHOOL 0 10:00 AM – MAKING THE CHURCH GREAT AGAIN\nSUNDAY AM 11:00 AM – MAKING THE CHURCH GREAT AGAIN\nSUNDAY 6:00 PM – MAKING THE CHURCH GREAT AGAIN\nSermons on\nMAKING THE CHURCH GREAT AGAIN \n\nPLEASE SHARE THIS PAGE:Tweet\n				Email a link to a friend (Opens in new window)\n				Email\n			\n				Print (Opens in new window)\n				Print\n			MoreShare on Tumblr
URL:https://lihwministries.org/event/spring-revival-march-21-saturday-evening-service-new-richmond-baptist-church-holland-mi/
LOCATION:New Richmond Baptist Church – Holland\, Mi\, 1909 Transport Lane\, Holland\, 49423\, United States
CATEGORIES:SPEAKING ENGAGEMENT
ORGANIZER;CN="Pastor Josh Spencer":MAILTO:pastrojoshspencer@yahoo.com
END:VEVENT
BEGIN:VEVENT
DTSTART;TZID=America/Detroit:20260322T100000
DTEND;TZID=America/Detroit:20260322T110000
DTSTAMP:20260422T081922
CREATED:20260202T205026Z
LAST-MODIFIED:20260202T210007Z
UID:12497-1774173600-1774177200@lihwministries.org
SUMMARY:SPRING REVIVAL - March 22 - SUNDAY SCHOOL - New Richmond Baptist Church  - Holland\, Mi
DESCRIPTION:PASTOR JOSH SPENCER\n\n\n\n\n\n\n\n\n\n\n\n\n\n\n\n\n\n\n\n\n\n\n\n\n\n\nREGULAR SERVICE TIMES:\n\n\n\n\n\n\n\n\n\n\n\n\n\n\n\n\n\n\n\n\n\n\n\n\n\n\n\n\n\nSunday School – 10:00 am\nMorning Worship  – 11:00 am\nJunior Church – 11:30\nPM Worship – 6:00\nWednesday Night Bible Study\n& Masterclub and Teen Ministries – 6:30 p.m.\n\n\nJoin us March 20-22nd at New Richmond Baptist Church\, 1909 Transport Lane\, Holland\, MI\, for the Spring Revival with Dr. Franklin J. Senters\nFRIDAY NIGHT—6:30 PM MUSICAL MINISTRY AND DEVOTIONAL CALL TO SERVE.\nSATURDAY 10:00 AM – NOON – ALTAR WORKERS’ MINISTRY SEMINAR\nSATURDAY 6:30 PM – MAKING THE CHURCH GREAT AGAIN\nSUNDAY SCHOOL 0 10:00 AM – MAKING THE CHURCH GREAT AGAIN\nSUNDAY AM 11:00 AM – MAKING THE CHURCH GREAT AGAIN\nSUNDAY 6:00 PM – MAKING THE CHURCH GREAT AGAIN\nSermons will all be on:\nMAKING THE CHURCH GREAT AGAIN\nPLEASE SHARE THIS PAGE:Tweet\n				Email a link to a friend (Opens in new window)\n				Email\n			\n				Print (Opens in new window)\n				Print\n			MoreShare on Tumblr
URL:https://lihwministries.org/event/spring-revival-march-21-pm-revival-new-richmond-baptist-church-holland-mi-copy/
LOCATION:New Richmond Baptist Church – Holland\, Mi\, 1909 Transport Lane\, Holland\, 49423\, United States
CATEGORIES:SPEAKING ENGAGEMENT
ORGANIZER;CN="Pastor Josh Spencer":MAILTO:pastrojoshspencer@yahoo.com
END:VEVENT
BEGIN:VEVENT
DTSTART;TZID=America/Detroit:20260322T110000
DTEND;TZID=America/Detroit:20260322T120000
DTSTAMP:20260422T081922
CREATED:20260202T210937Z
LAST-MODIFIED:20260202T210937Z
UID:12498-1774177200-1774180800@lihwministries.org
SUMMARY:SPRING REVIVAL - March 22 - 11 AM SERVICE - New Richmond Baptist Church  - Holland\, Mi
DESCRIPTION:PASTOR JOSH SPENCER\n\n\n\n\n\n\n\n\n\n\n\n\n\n\n\n\n\n\n\n\n\n\n\n\n\n\nREGULAR SERVICE TIMES:\n\n\n\n\n\n\n\n\n\n\n\n\n\n\n\n\n\n\n\n\n\n\n\n\n\n\n\n\n\nSunday School – 10:00 am\nMorning Worship  – 11:00 am\nJunior Church – 11:30\nPM Worship – 6:00\nWednesday Night Bible Study\n& Masterclub and Teen Ministries – 6:30 p.m.\n\n\nJoin us March 20-22nd at New Richmond Baptist Church\, 1909 Transport Lane\, Holland\, MI\, for the Spring Revival with Dr. Franklin J. Senters\nFRIDAY NIGHT—6:30 PM MUSICAL MINISTRY AND DEVOTIONAL CALL TO SERVE.SATURDAY 10:00 AM – NOON – ALTAR WORKERS’ MINISTRY SEMINAR\nSATURDAY 6:30 PM – MAKING THE CHURCH GREAT AGAIN\nSUNDAY SCHOOL 0 10:00 AM – MAKING THE CHURCH GREAT AGAIN\nSUNDAY AM 11:00 AM – MAKING THE CHURCH GREAT AGAIN\nSUNDAY 6:00 PM – MAKING THE CHURCH GREAT AGAIN\nSermons will all be on:\nMAKING THE CHURCH GREAT AGAIN \n\nPLEASE SHARE THIS PAGE:Tweet\n				Email a link to a friend (Opens in new window)\n				Email\n			\n				Print (Opens in new window)\n				Print\n			MoreShare on Tumblr
URL:https://lihwministries.org/event/spring-revival-march-22-11-am-service-new-richmond-baptist-church-holland-mi/
LOCATION:New Richmond Baptist Church – Holland\, Mi\, 1909 Transport Lane\, Holland\, 49423\, United States
CATEGORIES:SPEAKING ENGAGEMENT
ORGANIZER;CN="Pastor Josh Spencer":MAILTO:pastrojoshspencer@yahoo.com
END:VEVENT
BEGIN:VEVENT
DTSTART;TZID=America/Detroit:20260322T180000
DTEND;TZID=America/Detroit:20260322T190000
DTSTAMP:20260422T081922
CREATED:20260202T212025Z
LAST-MODIFIED:20260202T212025Z
UID:12511-1774202400-1774206000@lihwministries.org
SUMMARY:SPRING REVIVAL - March 22 - 6 PM SERVICE - New Richmond Baptist Church  - Holland\, Mi
DESCRIPTION:PASTOR JOSH SPENCER\n\n\n\n\n\n\n\n\n\n\n\n\n\n\n\n\n\n\n\n\n\n\n\n\n\n\nREGULAR SERVICE TIMES:\n\n\n\n\n\n\n\n\n\n\n\n\n\n\n\n\n\n\n\n\n\n\n\n\n\n\n\n\n\nSunday School – 10:00 am\nMorning Worship  – 11:00 am\nJunior Church – 11:30\nPM Worship – 6:00\nWednesday Night Bible Study\n& Masterclub and Teen Ministries – 6:30 p.m.\n\n\nJoin us March 20-22nd at New Richmond Baptist Church\, 1909 Transport Lane\, Holland\, MI\, for the Spring Revival with Dr. Franklin J. Senters\nFRIDAY NIGHT—6:30 PM MUSICAL MINISTRY AND DEVOTIONAL CALL TO SERVE.\nSATURDAY 10:00 AM – NOON – ALTAR WORKERS’ MINISTRY SEMINAR\nSATURDAY 6:30 PM – MAKING THE CHURCH GREAT AGAIN\nSUNDAY SCHOOL 0 10:00 AM – MAKING THE CHURCH GREAT AGAIN\nSUNDAY AM 11:00 AM – MAKING THE CHURCH GREAT AGAIN\nSUNDAY 6:00 PM – MAKING THE CHURCH GREAT AGAIN\nSermons will all be on:\nMAKING THE CHURCH GREAT AGAIN\nPLEASE SHARE THIS PAGE:Tweet\n				Email a link to a friend (Opens in new window)\n				Email\n			\n				Print (Opens in new window)\n				Print\n			MoreShare on Tumblr
URL:https://lihwministries.org/event/spring-revival-march-22-6-pm-service-new-richmond-baptist-church-holland-mi/
LOCATION:New Richmond Baptist Church – Holland\, Mi\, 1909 Transport Lane\, Holland\, 49423\, United States
CATEGORIES:SPEAKING ENGAGEMENT
ORGANIZER;CN="Pastor Josh Spencer":MAILTO:pastrojoshspencer@yahoo.com
END:VEVENT
BEGIN:VEVENT
DTSTART;TZID=America/Detroit:20260508T180000
DTEND;TZID=America/Detroit:20260508T200000
DTSTAMP:20260422T081922
CREATED:20260202T173526Z
LAST-MODIFIED:20260202T173526Z
UID:12476-1778263200-1778270400@lihwministries.org
SUMMARY:Pennsylvania - FRIDAY NIGHT SOUTHERN GOSPEL CONCERT - Sponsored by Independent Baptist Church\, Grove City
DESCRIPTION:INDEPENDENT BAPTIST CHURCH – GROVE CITY\, PA\n\n\nREGULAR SERVICE TIMES:\nSunday Morning\nSunday School – 9:30 AM\nWorship – 10:30 AM\nSunday Evening – 6:00 PM\n\n\nWednesday Evening\n\nWednesday Service – 7:00 PM\n\nPLEASE SHARE THIS PAGE:Tweet\n				Email a link to a friend (Opens in new window)\n				Email\n			\n				Print (Opens in new window)\n				Print\n			MoreShare on Tumblr
URL:https://lihwministries.org/event/pennsylvania-friday-night-southern-gospel-concert-sponsored-by-independent-baptist-church-grove-city/
LOCATION:Independent Baptist Church – Township Building – Copy\, 2873 Mercer Butler Pike\, Grove City\, PA\, 16127\, United States
CATEGORIES:SINGING ENGAGEMENT,SPEAKING ENGAGEMENT
ORGANIZER;CN="Pastor%3B Ken Seiver":MAILTO:kenseiverfm@gmail.com
END:VEVENT
BEGIN:VEVENT
DTSTART;TZID=America/Detroit:20260510T093000
DTEND;TZID=America/Detroit:20260510T101500
DTSTAMP:20260422T081922
CREATED:20260202T172401Z
LAST-MODIFIED:20260202T172613Z
UID:12469-1778405400-1778408100@lihwministries.org
SUMMARY:Independent Baptist Church (former-Crossroads Baptist Church) - Pennsylvania - SUNDAY SCHOOL
DESCRIPTION:INDEPENDENT BAPTIST CHURCH – GROVE CITY\, PA\n\n\nREGULAR SERVICE TIMES:\nSunday Morning\nSunday School – 9:30 AM\nWorship – 10:30 AM\nSunday Evening – 6:00 PM\n\n\nWednesday Evening\n\nWednesday Service – 7:00 PM\n\nPLEASE SHARE THIS PAGE:Tweet\n				Email a link to a friend (Opens in new window)\n				Email\n			\n				Print (Opens in new window)\n				Print\n			MoreShare on Tumblr
URL:https://lihwministries.org/event/independent-baptist-church-former-crossroads-baptist-church-pennsylvania-sunday-school/
LOCATION:Independent Baptist Church – Township Building – Copy\, 2873 Mercer Butler Pike\, Grove City\, PA\, 16127\, United States
CATEGORIES:SINGING ENGAGEMENT,SPEAKING ENGAGEMENT
ORGANIZER;CN="Pastor%3B Ken Seiver":MAILTO:kenseiverfm@gmail.com
END:VEVENT
BEGIN:VEVENT
DTSTART;TZID=America/Detroit:20260510T103000
DTEND;TZID=America/Detroit:20260510T234500
DTSTAMP:20260422T081922
CREATED:20260202T172825Z
LAST-MODIFIED:20260202T172825Z
UID:12473-1778409000-1778456700@lihwministries.org
SUMMARY:Independent Baptist Church (former-Crossroads Baptist Church) - Pennsylvania - AM WORSHIP
DESCRIPTION:INDEPENDENT BAPTIST CHURCH – GROVE CITY\, PA\n\n\nREGULAR SERVICE TIMES:\nSunday Morning\nSunday School – 9:30 AM\nWorship – 10:30 AM\nSunday Evening – 6:00 PM\n\n\nWednesday Evening\n\nWednesday Service – 7:00 PM\n\nPLEASE SHARE THIS PAGE:Tweet\n				Email a link to a friend (Opens in new window)\n				Email\n			\n				Print (Opens in new window)\n				Print\n			MoreShare on Tumblr
URL:https://lihwministries.org/event/independent-baptist-church-former-crossroads-baptist-church-pennsylvania-am-worship/
LOCATION:Independent Baptist Church – Township Building – Copy\, 2873 Mercer Butler Pike\, Grove City\, PA\, 16127\, United States
CATEGORIES:SINGING ENGAGEMENT,SPEAKING ENGAGEMENT
ORGANIZER;CN="Pastor%3B Ken Seiver":MAILTO:kenseiverfm@gmail.com
END:VEVENT
BEGIN:VEVENT
DTSTART;TZID=America/Detroit:20260510T180000
DTEND;TZID=America/Detroit:20260510T193000
DTSTAMP:20260422T081922
CREATED:20260202T174532Z
LAST-MODIFIED:20260202T174554Z
UID:12475-1778436000-1778441400@lihwministries.org
SUMMARY:Valley Baptist Church - Beaver Falls\, PA - PM Worship Service
DESCRIPTION:724-843-2181\n\n\n\n\n\ninfo@valleybaptistbeaverfalls.com\n\n\n\n\n\n\n1405 8th Ave\, Beaver Falls\, Pa 15010\nPastor Jeff Seivers\nSunday School – 10:00 AM\nAM Worship – 11:00 AM\nPM Worship – 6:00 PM\nWednesday Night Prayer Meeting – 6:30 \n\n\n\nPLEASE SHARE THIS PAGE:Tweet\n				Email a link to a friend (Opens in new window)\n				Email\n			\n				Print (Opens in new window)\n				Print\n			MoreShare on Tumblr
URL:https://lihwministries.org/event/valley-baptist-church-beaver-falls-pa-pm-worship-service-copy/
LOCATION:VALLEY BAPTIST CHURCH\, 1405 8th Ave\, Beaver Falls\, PA\, 15010\, United States
CATEGORIES:SINGING ENGAGEMENT,SPEAKING ENGAGEMENT
ORGANIZER;CN="Pastor Jeff Seivers":MAILTO:info@valleybaptistbeaverfalls.com
END:VEVENT
END:VCALENDAR