BEGIN:VCALENDAR
VERSION:2.0
PRODID:-//Living In His Word Ministries - ECPv6.15.20//NONSGML v1.0//EN
CALSCALE:GREGORIAN
METHOD:PUBLISH
X-WR-CALNAME:Living In His Word Ministries
X-ORIGINAL-URL:https://lihwministries.org
X-WR-CALDESC:Events for Living In His Word Ministries
REFRESH-INTERVAL;VALUE=DURATION:PT1H
X-Robots-Tag:noindex
X-PUBLISHED-TTL:PT1H
BEGIN:VTIMEZONE
TZID:America/Detroit
BEGIN:DAYLIGHT
TZOFFSETFROM:-0500
TZOFFSETTO:-0400
TZNAME:EDT
DTSTART:20240310T070000
END:DAYLIGHT
BEGIN:STANDARD
TZOFFSETFROM:-0400
TZOFFSETTO:-0500
TZNAME:EST
DTSTART:20241103T060000
END:STANDARD
BEGIN:DAYLIGHT
TZOFFSETFROM:-0500
TZOFFSETTO:-0400
TZNAME:EDT
DTSTART:20250309T070000
END:DAYLIGHT
BEGIN:STANDARD
TZOFFSETFROM:-0400
TZOFFSETTO:-0500
TZNAME:EST
DTSTART:20251102T060000
END:STANDARD
BEGIN:DAYLIGHT
TZOFFSETFROM:-0500
TZOFFSETTO:-0400
TZNAME:EDT
DTSTART:20260308T070000
END:DAYLIGHT
BEGIN:STANDARD
TZOFFSETFROM:-0400
TZOFFSETTO:-0500
TZNAME:EST
DTSTART:20261101T060000
END:STANDARD
END:VTIMEZONE
BEGIN:VEVENT
DTSTART;VALUE=DATE:20250417
DTEND;VALUE=DATE:20250418
DTSTAMP:20260420T185350
CREATED:20250416T125444Z
LAST-MODIFIED:20250416T125444Z
UID:12264-1744848000-1744934399@lihwministries.org
SUMMARY:Funeral Service Today – Unavailable
DESCRIPTION:Funeral Service Today – Unavailable\nPLEASE SHARE THIS PAGE:Tweet\n				Email a link to a friend (Opens in new window)\n				Email\n			\n				Print (Opens in new window)\n				Print\n			MoreShare on Tumblr
URL:https://lihwministries.org/event/funeral-service-today-unavailable-2/
LOCATION:Dr. Franklin J. Senters
CATEGORIES:SPEAKING ENGAGEMENT,UNAVAILABLE
ORGANIZER;CN="LIHW - Dr. Franklin J. Senters":MAILTO:LIHW@LIHWMinistries.org
END:VEVENT
END:VCALENDAR